BEGIN:VCALENDAR
VERSION:2.0
PRODID:-//wp-events-plugin.com//7.2.3.1//EN
TZID:America/New_York
X-WR-TIMEZONE:America/New_York
BEGIN:VEVENT
UID:116@phillylarp.com
DTSTART;TZID=America/New_York:20200321T180000
DTEND;TZID=America/New_York:20200321T230000
DTSTAMP:20200318T051123Z
URL:https://phillylarp.com/events/nj-camarilla-anarch-game-2020-03-21/
SUMMARY:CANCELLED NJ Camarilla/Anarch Game
DESCRIPTION:Due to the COVID-19/Corona quarantine\, we're canceling Larp ev
 ents until the storm has passed. Please be safe and practice social distan
 cing!
CATEGORIES:Camarilla
LOCATION:Ewing Presbyterian Church\, 100 Scotch Rd\, Ewing Township\, NJ\, 
 08628\, United States
GEO:40.2712175;-74.79975290000004
X-APPLE-STRUCTURED-LOCATION;VALUE=URI;X-ADDRESS=100 Scotch Rd\, Ewing Towns
 hip\, NJ\, 08628\, United States;X-APPLE-RADIUS=100;X-TITLE=Ewing Presbyte
 rian Church:geo:40.2712175,-74.79975290000004
END:VEVENT
BEGIN:VTIMEZONE
TZID:America/New_York
X-LIC-LOCATION:America/New_York
BEGIN:DAYLIGHT
DTSTART:20200308T030000
TZOFFSETFROM:-0500
TZOFFSETTO:-0400
TZNAME:EDT
END:DAYLIGHT
END:VTIMEZONE
END:VCALENDAR