BEGIN:VCALENDAR
VERSION:2.0
PRODID:-//wp-events-plugin.com//7.2.3.1//EN
TZID:America/New_York
X-WR-TIMEZONE:America/New_York
BEGIN:VEVENT
UID:107@phillylarp.com
DTSTART;TZID=America/New_York:20190817T180000
DTEND;TZID=America/New_York:20190817T230000
DTSTAMP:20190812T193921Z
URL:https://phillylarp.com/events/nj-camarilla-anarch-game/
SUMMARY:NJ Camarilla/Anarch Game
DESCRIPTION:Join Role Initiative Philly for our Vampire the Masquerade Cama
 rilla/Anarch game.\n\nPhiladelphia by Night: The Gritty City is run by Ken
  Young with help from Ruth Codling\n\nEmail camarilla@phillylarp.com or Rc
 odlingst@gmail.com if you have questions about the game\n\nCam/Anarch Chec
 k-in: 6:15 pm - 6:45 pm\nCam/Anarch Game: 6:45 pm - 10:45 pm\nClean up and
  get out: 10:45 pm - 11:00 pm\n\nAfters at Ewing Diner\n1099 Parkway Ave\n
 Ewing Township\, NJ 08628\n\nIf you have questions about the group\, email
  us at info@phillylarp.com
CATEGORIES:Camarilla
LOCATION:Ewing Presbyterian Church\, 100 Scotch Rd\, Ewing Township\, NJ\, 
 08628\, United States
GEO:40.2712175;-74.79975290000004
X-APPLE-STRUCTURED-LOCATION;VALUE=URI;X-ADDRESS=100 Scotch Rd\, Ewing Towns
 hip\, NJ\, 08628\, United States;X-APPLE-RADIUS=100;X-TITLE=Ewing Presbyte
 rian Church:geo:40.2712175,-74.79975290000004
END:VEVENT
BEGIN:VTIMEZONE
TZID:America/New_York
X-LIC-LOCATION:America/New_York
BEGIN:DAYLIGHT
DTSTART:20190310T030000
TZOFFSETFROM:-0500
TZOFFSETTO:-0400
TZNAME:EDT
END:DAYLIGHT
END:VTIMEZONE
END:VCALENDAR