BEGIN:VCALENDAR
VERSION:2.0
PRODID:-//wp-events-plugin.com//7.2.3.1//EN
TZID:America/New_York
X-WR-TIMEZONE:America/New_York
BEGIN:VEVENT
UID:313@phillylarp.com
DTSTART;TZID=America/New_York;VALUE=DATE:20250208
DTEND;TZID=America/New_York;VALUE=DATE:20250209
DTSTAMP:20241119T012857Z
URL:https://phillylarp.com/events/vampire-the-masquerade-anarch/
SUMMARY:Vampire the Masquerade: Anarch
DESCRIPTION:Join us on February 8th for the first game of our Anarch Chroni
 cle: “Freedom is never given\; it is won.” Hours to be announced!
CATEGORIES:Anarch
LOCATION:Cultivate Church\, 2303 E Evesham Rd\, Voorhees Township\, NJ\, 08
 043\, South Jersey\, United States
GEO:39.863793;-74.960805
X-APPLE-STRUCTURED-LOCATION;VALUE=URI;X-ADDRESS=2303 E Evesham Rd\, Voorhee
 s Township\, NJ\, 08043\, South Jersey\, United States;X-APPLE-RADIUS=100;
 X-TITLE=Cultivate Church:geo:39.863793,-74.960805
END:VEVENT
BEGIN:VTIMEZONE
TZID:America/New_York
X-LIC-LOCATION:America/New_York
BEGIN:STANDARD
DTSTART:20241103T010000
TZOFFSETFROM:-0400
TZOFFSETTO:-0500
TZNAME:EST
END:STANDARD
END:VTIMEZONE
END:VCALENDAR