BEGIN:VCALENDAR
VERSION:2.0
PRODID:-//wp-events-plugin.com//7.2.3.1//EN
TZID:America/New_York
X-WR-TIMEZONE:America/New_York
BEGIN:VEVENT
UID:68@phillylarp.com
DTSTART;TZID=America/New_York:20181012T100000
DTEND;TZID=America/New_York:20181014T173000
DTSTAMP:20180806T004933Z
URL:https://phillylarp.com/events/winding-path-initiative-at-hlg-con/
SUMMARY:Winding Path Initiative at HLG Con
DESCRIPTION:The Winding Path Initiative is delighted to be presenting Parlo
 r LARP games at HLGCon\, October 12th-14th\, at the Showboat Atlantic City
 . Admission to the B&amp\;B event is included in the cost of regular admis
 sion to the convention.\n\nBlood &amp\; Betrayal Vampire: The Masquerade 
 Friday &amp\; Saturday Night\nWe are thrilled to be showcasing Vampire: Th
 e Masquerade as part of By Night Studios’ Blood &amp\; Betrayal Chronic
 le. We will be running Masquerade Friday and Saturday night\, as a combine
 d venue — you’re welcome to play Camarilla\, Sabbat\, Anarch\, or Ind
 ependent Alliance characters\, who have all been invited together for what
  should be an extremely eventful weekend. The Foundation Room is a beautif
 ul space with a maze of alcoves and small rooms to sneak off to — but wi
 th all the enemies around you\, be careful who you wander with. Our Friday
  night Masquerade game will be Camarilla focused\, with primary storytelli
 ng from Sarah Farley and DJ Hicks. They can be contacted at camarilla@phi
 llylarp.com Our Saturday night Masquerade game will be Sabbat focused\, w
 ith primary storytelling from Joe Perry and Jacob Shpiece. They can be con
 tacted at st@phillysabbat.com You do not need to be a current WPI or B&a
 mp\;B player to play\; we’re excited to share our world with you. Whethe
 r you’re planning to bring in a new character\, or looking to convert an
  existing one for the Blood &amp\; Betrayal Chronicle\, we’ll have staff
  on hand to help you get into and involved in our games.\n\nHuldufolk Play
 test at HLGcon\nJoin us at HLGCon at the Showboat in Atlantic City\, Oct
 ober 12th – 14th\, where the Winding Path Initiative will be showcasing 
 new Parlor LARPs in development\, including Huldufólk. \nJoin us for ou
 r showcase playtest of Huldufólk: The Hidden People. At the start of the 
 playtest we’ll introduce you to the setting of the game\, helping you cr
 eate the background and motivations for your own character. As part of the
  playtest you’ll be thrown into a pivotal moment of Huldufólk history. 
 Join one of the factions pushing for their goals\, as your decisions help 
 form the setting as the game launches.\nFor any questions related to Huld
 ufólk\, please contact Joe Terranova. For updates on HLGCon and Huldufó
 lk\, like WPI or Huldufólk‘s Facebook pages\, or subscribe to Windi
 ng Path Initiative announcements.
CATEGORIES:Camarilla,Huldufolk,Sabbat
LOCATION:Showboat Hotel\, 801 Boardwalk\, Atlantic City\, New Jersey\, 0840
 1	\, United States
GEO:39.3617229;-74.418454
X-APPLE-STRUCTURED-LOCATION;VALUE=URI;X-ADDRESS=801 Boardwalk\, Atlantic Ci
 ty\, New Jersey\, 08401	\, United States;X-APPLE-RADIUS=100;X-TITLE=Showbo
 at Hotel:geo:39.3617229,-74.418454
END:VEVENT
BEGIN:VTIMEZONE
TZID:America/New_York
X-LIC-LOCATION:America/New_York
BEGIN:DAYLIGHT
DTSTART:20180311T030000
TZOFFSETFROM:-0500
TZOFFSETTO:-0400
TZNAME:EDT
END:DAYLIGHT
END:VTIMEZONE
END:VCALENDAR